BEGIN:VCALENDAR
VERSION:2.0
PRODID:-//Welcome to Godfrey&#039;s Pond - ECPv4.7.3//NONSGML v1.0//EN
CALSCALE:GREGORIAN
METHOD:PUBLISH
X-WR-CALNAME:Welcome to Godfrey&#039;s Pond
X-ORIGINAL-URL:https://godfreyspond.com
X-WR-CALDESC:Events for Welcome to Godfrey&#039;s Pond
BEGIN:VEVENT
DTSTART;TZID=America/New_York:20211114T140000
DTEND;TZID=America/New_York:20211114T170000
DTSTAMP:20260425T185245
CREATED:20210126T151158Z
LAST-MODIFIED:20211019T132030Z
UID:2467-1636898400-1636909200@godfreyspond.com
SUMMARY:Camper/Resident- Thanksgiving dinner- Clubhouse
DESCRIPTION:Clubhouse Reserved \nCome join us as we gather together for our annual Thanksgiving Dinner!  Even though we face challenges in our COVID world as we know it\, the time spent with family and friends at the Pond made us forget those challenges at least for a weekend.  Whether it was around a campfire\, at a Pond event\, swimming\, fishing\, etc.\, we had a nice season and made memories for us and our kids. \nFor the dinner\, we will begin shortly after 2:00 p.m. in the Clubhouse.  Please bring a dish-to-pass for your family.  Plates\, silverware and napkins will be provided.  Below is a list of what we have so far\, but what we also need.  If you have a special dish or dessert you would like to prepare\, please do!  Either way\, please comment in this post or contact Donna or Cheryl below your attendance (# in family) and what you would be bringing so we can keep track of what we will still need. \nPlease contact Donna Bobzin at 585-750-3327 or Cheryl Burrs at 585-880-8306. \nCurrently Have:  2 Turkeys\, 3 Stuffings\, Gravy\, 6 pies and a casserole \nNeeded:  Ham\, Mashed Potatoes\, (Your special dish!)\, 3 cases bottled water \nThank you and we hope to see you there!  Happy Thanksgiving! \n
URL:https://godfreyspond.com/calendar/thanksgiving-dinner-clubhouse/
LOCATION:Godfrey’s Pond\, 7925 Godfrey’s Pond Road\, Bergen\, 14416\, United States
CATEGORIES:Event
ATTACH;FMTTYPE=image/png:https://godfreyspond.com/wp-content/uploads/2021/01/Thanksgiving-Dinner.png
END:VEVENT
END:VCALENDAR