BEGIN:VCALENDAR
VERSION:2.0
PRODID:-//Welcome to Godfrey&#039;s Pond - ECPv4.7.3//NONSGML v1.0//EN
CALSCALE:GREGORIAN
METHOD:PUBLISH
X-WR-CALNAME:Welcome to Godfrey&#039;s Pond
X-ORIGINAL-URL:https://godfreyspond.com
X-WR-CALDESC:Events for Welcome to Godfrey&#039;s Pond
BEGIN:VEVENT
DTSTART;TZID=America/New_York:20220806T120000
DTEND;TZID=America/New_York:20220806T180000
DTSTAMP:20260425T021413
CREATED:20220503T230643Z
LAST-MODIFIED:20220506T120204Z
UID:3844-1659787200-1659808800@godfreyspond.com
SUMMARY:Vukman Pavilion Reserved
DESCRIPTION:Vukman Pavilion Reserved \nStearns \n12:00pm- 6:00pm \n
URL:https://godfreyspond.com/calendar/vukman-pavilion-reserved-17/
CATEGORIES:Reservations
END:VEVENT
END:VCALENDAR