BEGIN:VCALENDAR
VERSION:2.0
PRODID:-//Welcome to Godfrey&#039;s Pond - ECPv4.7.3//NONSGML v1.0//EN
CALSCALE:GREGORIAN
METHOD:PUBLISH
X-WR-CALNAME:Welcome to Godfrey&#039;s Pond
X-ORIGINAL-URL:https://godfreyspond.com
X-WR-CALDESC:Events for Welcome to Godfrey&#039;s Pond
BEGIN:VEVENT
DTSTART;TZID=America/New_York:20220717T090000
DTEND;TZID=America/New_York:20220717T150000
DTSTAMP:20260425T133943
CREATED:20220518T123438Z
LAST-MODIFIED:20220525T105217Z
UID:3883-1658048400-1658070000@godfreyspond.com
SUMMARY:Vukman pavilion Reserved
DESCRIPTION:Vukman Pavilion Reserved \nRossi \n9:00am- 3:00pm \n
URL:https://godfreyspond.com/calendar/vukman-pavilion-reserved-18/
CATEGORIES:Reservations
END:VEVENT
END:VCALENDAR