BEGIN:VCALENDAR
VERSION:2.0
PRODID:-//Welcome to Godfrey&#039;s Pond - ECPv4.7.3//NONSGML v1.0//EN
CALSCALE:GREGORIAN
METHOD:PUBLISH
X-WR-CALNAME:Welcome to Godfrey&#039;s Pond
X-ORIGINAL-URL:https://godfreyspond.com
X-WR-CALDESC:Events for Welcome to Godfrey&#039;s Pond
BEGIN:VEVENT
DTSTART;TZID=America/New_York:20220807T090000
DTEND;TZID=America/New_York:20220807T220000
DTSTAMP:20260425T023205
CREATED:20220520T175728Z
LAST-MODIFIED:20220525T105421Z
UID:3902-1659862800-1659909600@godfreyspond.com
SUMMARY:Vukman Pavilion Reserved
DESCRIPTION:Vukman Pavilion Reserved \nMullen \n9:00am- 10:00pm \n
URL:https://godfreyspond.com/calendar/vukman-pavilion-reserved-19/
CATEGORIES:Reservations
END:VEVENT
END:VCALENDAR