BEGIN:VCALENDAR
VERSION:2.0
PRODID:-//Welcome to Godfrey&#039;s Pond - ECPv4.7.3//NONSGML v1.0//EN
CALSCALE:GREGORIAN
METHOD:PUBLISH
X-WR-CALNAME:Welcome to Godfrey&#039;s Pond
X-ORIGINAL-URL:https://godfreyspond.com
X-WR-CALDESC:Events for Welcome to Godfrey&#039;s Pond
BEGIN:VEVENT
DTSTART;TZID=America/New_York:20210703T130000
DTEND;TZID=America/New_York:20210703T180000
DTSTAMP:20260426T020748
CREATED:20210318T135459Z
LAST-MODIFIED:20210526T144323Z
UID:2629-1625317200-1625335200@godfreyspond.com
SUMMARY:Vukman Pavilion Reserved
DESCRIPTION:Vukman Pavilion Reserved \nVanelli \n1:00pm- 6:00pm \n
URL:https://godfreyspond.com/calendar/vukman-pavilion-reserved-2/
CATEGORIES:Public,Reservations
END:VEVENT
END:VCALENDAR