BEGIN:VCALENDAR
VERSION:2.0
PRODID:-//Welcome to Godfrey&#039;s Pond - ECPv4.7.3//NONSGML v1.0//EN
CALSCALE:GREGORIAN
METHOD:PUBLISH
X-WR-CALNAME:Welcome to Godfrey&#039;s Pond
X-ORIGINAL-URL:https://godfreyspond.com
X-WR-CALDESC:Events for Welcome to Godfrey&#039;s Pond
BEGIN:VEVENT
DTSTART;TZID=America/New_York:20230619T110000
DTEND;TZID=America/New_York:20230619T150000
DTSTAMP:20260424T102439
CREATED:20230609T111249Z
LAST-MODIFIED:20230614T140821Z
UID:4631-1687172400-1687186800@godfreyspond.com
SUMMARY:Vukman Pavilion Reserved
DESCRIPTION:Vukman Pavilion Resreved \nPetri \n11:00am- 3:00pm \n
URL:https://godfreyspond.com/calendar/vukman-pavilion-reserved-29/
CATEGORIES:Reservations
END:VEVENT
END:VCALENDAR