BEGIN:VCALENDAR
VERSION:2.0
PRODID:-//Welcome to Godfrey&#039;s Pond - ECPv4.7.3//NONSGML v1.0//EN
CALSCALE:GREGORIAN
METHOD:PUBLISH
X-WR-CALNAME:Welcome to Godfrey&#039;s Pond
X-ORIGINAL-URL:https://godfreyspond.com
X-WR-CALDESC:Events for Welcome to Godfrey&#039;s Pond
BEGIN:VEVENT
DTSTART;TZID=America/New_York:20230826T100000
DTEND;TZID=America/New_York:20230826T180000
DTSTAMP:20260424T084646
CREATED:20230625T130508Z
LAST-MODIFIED:20230625T130508Z
UID:4679-1693044000-1693072800@godfreyspond.com
SUMMARY:Vukman Pavilion Reserved
DESCRIPTION:Vukman Pavilion Reserved \nDilcher \n11:00am- 6:00pm \n
URL:https://godfreyspond.com/calendar/vukman-pavilion-reserved-30/
CATEGORIES:Public,Reservations
END:VEVENT
END:VCALENDAR