BEGIN:VCALENDAR
VERSION:2.0
PRODID:-//Welcome to Godfrey&#039;s Pond - ECPv4.7.3//NONSGML v1.0//EN
CALSCALE:GREGORIAN
METHOD:PUBLISH
X-WR-CALNAME:Welcome to Godfrey&#039;s Pond
X-ORIGINAL-URL:https://godfreyspond.com
X-WR-CALDESC:Events for Welcome to Godfrey&#039;s Pond
BEGIN:VEVENT
DTSTART;TZID=America/New_York:20240713T100000
DTEND;TZID=America/New_York:20240713T150000
DTSTAMP:20260421T072023
CREATED:20240522T143100Z
LAST-MODIFIED:20240530T192455Z
UID:5596-1720864800-1720882800@godfreyspond.com
SUMMARY:Vukman Pavilion Reserved
DESCRIPTION:Vukman Pavilion Reserved \nBell \n10:00am- 3:00pm \n
URL:https://godfreyspond.com/calendar/vukman-pavilion-reserved-33/
CATEGORIES:Reservations
END:VEVENT
END:VCALENDAR